BEGIN:VCALENDAR
VERSION:2.0
PRODID:-//Cobra Car Club Queensland - ECPv5.3.2.1//NONSGML v1.0//EN
CALSCALE:GREGORIAN
METHOD:PUBLISH
X-WR-CALNAME:Cobra Car Club Queensland
X-ORIGINAL-URL:https://cobracarclubqld.org.au
X-WR-CALDESC:Events for Cobra Car Club Queensland
BEGIN:VTIMEZONE
TZID:Australia/Melbourne
BEGIN:STANDARD
TZOFFSETFROM:+1100
TZOFFSETTO:+1000
TZNAME:AEST
DTSTART:20210403T160000
END:STANDARD
BEGIN:DAYLIGHT
TZOFFSETFROM:+1000
TZOFFSETTO:+1100
TZNAME:AEDT
DTSTART:20211002T160000
END:DAYLIGHT
END:VTIMEZONE
BEGIN:VEVENT
DTSTART;TZID=Australia/Melbourne:20210716T080000
DTEND;TZID=Australia/Melbourne:20210725T170000
DTSTAMP:20210223T225928
CREATED:20201205T010048Z
LAST-MODIFIED:20201205T022019Z
UID:10170-1626422400-1627232400@cobracarclubqld.org.au
SUMMARY:Jumpers and Jazz
DESCRIPTION:Jumpers and Jazz Festival
URL:https://cobracarclubqld.org.au/event/jumpers-and-jazz/
LOCATION:Queensland
CATEGORIES:Social
ATTACH;FMTTYPE=image/jpeg:https://cobracarclubqld.org.au/wp-content/uploads/2020/12/jumpers-and-jazz-logo.jpg
END:VEVENT
BEGIN:VEVENT
DTSTART;TZID=Australia/Melbourne:20210523T070000
DTEND;TZID=Australia/Melbourne:20210523T140000
DTSTAMP:20210223T225928
CREATED:20201204T053235Z
LAST-MODIFIED:20201204T053937Z
UID:10145-1621753200-1621778400@cobracarclubqld.org.au
SUMMARY:Macs Bridge Sunday May 23rd 2021
DESCRIPTION:Mac’s Bridge 23rd May 2021		\n		This annual event was cancelled in 2020 due to the covid restrictions  but will run with Covid compliant protocols in place in May 2021. \nThis is one of the biggest car events held in Qld and multiple car clubs attend en masse and the clubs also compete for  best club.  I’d like us to win the title this time!  We already have the best cars\, lets show them off.\nIt would be nice if we can have a complete  Cobra stand with Marquees\, Coffee\, Tea and  a BBQ etc.\n  		\n					\n            \n			            Click here to confirm your attendance\n                \n                                                                                                            \n			Macs Bridge – A brief History		\n		Each year on Mothers day\, TSOAQ hosts the Macleans Bridge Classic Car Display. The event has its origins back to the 70’s and started in the park adjacent to Macleans Bridge on Beaudesert Road\, south-west of Brisbane CBD. After many years in the original location it moved to a couple of other locations including Lakeside raceway. The event now has a larger and more established home at the Queensland Rifle Association complex at Belmont\, just east of Brisbane on Old Cleveland Rd\, near the Chandler sports complex. \nThis is a huge event with hundreds of classic sports cars and Grand Tourers on display. For people into old or new classic cars\, this has always been a must attend event and a great day out. \nOver the years TSOAQ\, who have tried to keep up with changing car trends\, yet remain faithful to the intention of having a special day just for sports and “classic sporting” cars. Each major brand is allocated space\, and where practical \, the sporting saloons are separated from the sports cars. Vehicles from the 30’s to current typically attend: Triumph\, Healey\, Jaguar\, MG\, Alfa Romeo\, Aston Martin\, Ferrari\, Bugatti\, Lamborghini\, Delage\, Morgan\, Rolls-Royce\, Bentley\, AC\, Lotus\, Allard\, Bolwell\, NIssan\, to name a few. \nCar clubs are encouraged to have a place where existing & prospective members can come for information\, support etc. Many clubs have well-organised BBQ’s etc.. The TSOAQ runs a competition for “best car of the day”\, that all entrants and public can vote for. There is organised parking for about 700 cars\, and plenty of room for non-display cars\, so don’t avoid coming just because you don’t have a show car.
URL:https://cobracarclubqld.org.au/event/macs-bridge-sunday-may-23rd-2021/
LOCATION:Queensland
CATEGORIES:Club Car Run,Social
ATTACH;FMTTYPE=image/jpeg:https://cobracarclubqld.org.au/wp-content/uploads/2020/12/macs-flyer-p2.jpg
END:VEVENT
BEGIN:VEVENT
DTSTART;TZID=Australia/Melbourne:20210502T073000
DTEND;TZID=Australia/Melbourne:20210502T100000
DTSTAMP:20210223T225928
CREATED:20210213T011434Z
LAST-MODIFIED:20210213T065458Z
UID:10812-1619940600-1619949600@cobracarclubqld.org.au
SUMMARY:Eagle Heights
DESCRIPTION:To be Confirmed \n\n\n\n\n\n\n\n\n\n\n\n\n\n\n\n\n\n\nClick here to confirm your attendance
URL:https://cobracarclubqld.org.au/event/eagle-heights/
LOCATION:Eagle Heights\, 1683 Tamborine Oxenford Road\, Mt Tamborine\, Queensland\, Australia
CATEGORIES:Breakfast
ATTACH;FMTTYPE=image/jpeg:https://cobracarclubqld.org.au/wp-content/uploads/2020/10/eagleHeights1.jpg
END:VEVENT
BEGIN:VEVENT
DTSTART;TZID=Australia/Melbourne:20210411T080000
DTEND;TZID=Australia/Melbourne:20210411T103000
DTSTAMP:20210223T225928
CREATED:20210212T234920Z
LAST-MODIFIED:20210213T022325Z
UID:10801-1618128000-1618137000@cobracarclubqld.org.au
SUMMARY:The Boylan's Homestead
DESCRIPTION:Click to conform attendance
URL:https://cobracarclubqld.org.au/event/the-boylans-homestead/
LOCATION:Boylan Homestead\, Carbrook\, Queensland\, 4130\, Australia
CATEGORIES:Breakfast
ATTACH;FMTTYPE=image/jpeg:https://cobracarclubqld.org.au/wp-content/uploads/2021/02/23-to-27-Skinners-Road-Carbrook.jpg
END:VEVENT
BEGIN:VEVENT
DTSTART;TZID=Australia/Melbourne:20210307T073000
DTEND;TZID=Australia/Melbourne:20210307T100000
DTSTAMP:20210223T225928
CREATED:20210212T225713Z
LAST-MODIFIED:20210212T232608Z
UID:10784-1615102200-1615111200@cobracarclubqld.org.au
SUMMARY:Historic River Mill
DESCRIPTION:Historic River Mill Breakfast Meetup		\n            \n			            Confirm Attendance\n                \n							\n						Previous\n						Next\n		Come to the River Mill for a great breafast and this month is the prize presentation for best in category.  Who will win this quarter?
URL:https://cobracarclubqld.org.au/event/historic-river-mill/
LOCATION:Historic River Mill\, 950 Beaudesert Nerang Road\,\, Mount Nathan\, Qld\, 4211\, Australia
CATEGORIES:Breakfast
ATTACH;FMTTYPE=image/jpeg:https://cobracarclubqld.org.au/wp-content/uploads/2020/07/rivermill.jpg
ORGANIZER;CN="Alan%20Ball":MAILTO:president@cobracarclubqld.org.au
END:VEVENT
END:VCALENDAR